BEGIN:VCALENDAR
VERSION:2.0
PRODID:-//Multi•O•Coaching - ECPv6.6.2//NONSGML v1.0//EN
CALSCALE:GREGORIAN
METHOD:PUBLISH
X-ORIGINAL-URL:https://multiorgasmcoaching.com
X-WR-CALDESC:Events for Multi•O•Coaching
REFRESH-INTERVAL;VALUE=DURATION:PT1H
X-Robots-Tag:noindex
X-PUBLISHED-TTL:PT1H
BEGIN:VTIMEZONE
TZID:Europe/Berlin
BEGIN:DAYLIGHT
TZOFFSETFROM:+0100
TZOFFSETTO:+0200
TZNAME:CEST
DTSTART:20230326T010000
END:DAYLIGHT
BEGIN:STANDARD
TZOFFSETFROM:+0200
TZOFFSETTO:+0100
TZNAME:CET
DTSTART:20231029T010000
END:STANDARD
END:VTIMEZONE
BEGIN:VEVENT
DTSTART;TZID=Europe/Berlin:20230929T190000
DTEND;TZID=Europe/Berlin:20230929T220000
DTSTAMP:20260421T203653
CREATED:20230802T140138Z
LAST-MODIFIED:20230916T085145Z
UID:8991-1696014000-1696024800@multiorgasmcoaching.com
SUMMARY:The Heart Sound Journey - Remember Love & Dancing with Eros with Babek and Moshe
DESCRIPTION:The Heart Sound Journey is a guided sound experience that connects us with our hearts through the enchantment of music. During the journey\, we go through three sections – a dance part\, a trance part\, and a chanting part. Powerful instruments and touching songs invite you to fully arrive in the present moment. Feel your pulsation\, breath\, and energy in your body as you dance to the beat of the drum. Connect with the sky and the earth\, release all tension\, and dive deep into your inner world with trance sounds. \n  \nExperience the moving power of community as we sing together\, our voices and hearts in harmony – through devotion\, the healing potential of the Heart Sound Journey can unfold. Combining Babek’s passion for music and Moshe’s expertise in intimacy coaching\, the Heart Sound Journey guides you on a path to connect with your erotic power while maintaining an open heart. Through visualization and partner exercises integrated into music\, movement\, and dance\, you can explore yourself. We all carry emotional baggage when it comes to accepting our sexuality\, and in this space – within the safe boundaries we establish – it’s all about celebrating every aspect of ourselves: intellectually\, spiritually\, emotionally\, AND sexually! Come and join us on the journey to embrace and celebrate the wonderful being that we are\, more and more in its wholeness. \n  \nInformation: \nThe events will take place at Sinnergie\, Schulzestr. 1\, 13187 Berlin (Pankow) \nFull Moon Event “Dancing with Eros” on Friday\, 29th of September\, 7 pm – 10 pm\, cost €25 \nWorkshop “Remember Love” on Saturday\, 30th of September\, 2 pm – 6 pm\, cost €35 \nBoth events together €50 \nPlease register  by email either at musik@babekbodien.com \nor at info@multiorgasmcoaching.com \n\n\n\n 
URL:https://multiorgasmcoaching.com/event/the-heart-sound-journey-remember-love-dancing-with-eros-with-babek-and-moshe/
LOCATION:Sinnergie\, Schulzestr. 1\, Berlin\, 13187\, Germany
CATEGORIES:Workshop
ATTACH;FMTTYPE=image/png:https://multiorgasmcoaching.com/wp-content/uploads/2023/08/2023-09-Cover-Picture-V2.png
END:VEVENT
END:VCALENDAR